Workbook

Sheet Customer 1
A1: Customer: | D1: Phone:
A2: Date | B2: Vivaran (detail) | C2: Udhar (aapne diya) | D2: Jama (aapko mila) | E2: Balance
B3: Pichla baaki (opening balance) | E3: 0
E4: =IF(AND(C4="",D4=""),"",$E$3+SUM($C$4:C4)-SUM($D$4:D4))
E5: =IF(AND(C5="",D5=""),"",$E$3+SUM($C$4:C5)-SUM($D$4:D5))
E6: =IF(AND(C6="",D6=""),"",$E$3+SUM($C$4:C6)-SUM($D$4:D6))
E7: =IF(AND(C7="",D7=""),"",$E$3+SUM($C$4:C7)-SUM($D$4:D7))
E8: =IF(AND(C8="",D8=""),"",$E$3+SUM($C$4:C8)-SUM($D$4:D8))
E9: =IF(AND(C9="",D9=""),"",$E$3+SUM($C$4:C9)-SUM($D$4:D9))
E10: =IF(AND(C10="",D10=""),"",$E$3+SUM($C$4:C10)-SUM($D$4:D10))
E11: =IF(AND(C11="",D11=""),"",$E$3+SUM($C$4:C11)-SUM($D$4:D11))
E12: =IF(AND(C12="",D12=""),"",$E$3+SUM($C$4:C12)-SUM($D$4:D12))
E13: =IF(AND(C13="",D13=""),"",$E$3+SUM($C$4:C13)-SUM($D$4:D13))
E14: =IF(AND(C14="",D14=""),"",$E$3+SUM($C$4:C14)-SUM($D$4:D14))
E15: =IF(AND(C15="",D15=""),"",$E$3+SUM($C$4:C15)-SUM($D$4:D15))
... E53: =IF(AND(C53="",D53=""),"",$E$3+SUM($C$4:C53)-SUM($D$4:D53))
A55: Total | C55: =SUM(C4:C53) | D55: =SUM(D4:D53) | E55: =E3+C55-D55
A56: Balance = pichla baaki + udhar - jama. Page bhar jaaye to naya page lein aur pehli line mein pichla balance likhein.

Sheet Customer 2
A1: Customer: | D1: Phone:
A2: Date | B2: Vivaran (detail) | C2: Udhar (aapne diya) | D2: Jama (aapko mila) | E2: Balance
B3: Pichla baaki (opening balance) | E3: 0
E4: =IF(AND(C4="",D4=""),"",$E$3+SUM($C$4:C4)-SUM($D$4:D4))
E5: =IF(AND(C5="",D5=""),"",$E$3+SUM($C$4:C5)-SUM($D$4:D5))
E6: =IF(AND(C6="",D6=""),"",$E$3+SUM($C$4:C6)-SUM($D$4:D6))
E7: =IF(AND(C7="",D7=""),"",$E$3+SUM($C$4:C7)-SUM($D$4:D7))
E8: =IF(AND(C8="",D8=""),"",$E$3+SUM($C$4:C8)-SUM($D$4:D8))
E9: =IF(AND(C9="",D9=""),"",$E$3+SUM($C$4:C9)-SUM($D$4:D9))
E10: =IF(AND(C10="",D10=""),"",$E$3+SUM($C$4:C10)-SUM($D$4:D10))
E11: =IF(AND(C11="",D11=""),"",$E$3+SUM($C$4:C11)-SUM($D$4:D11))
E12: =IF(AND(C12="",D12=""),"",$E$3+SUM($C$4:C12)-SUM($D$4:D12))
E13: =IF(AND(C13="",D13=""),"",$E$3+SUM($C$4:C13)-SUM($D$4:D13))
E14: =IF(AND(C14="",D14=""),"",$E$3+SUM($C$4:C14)-SUM($D$4:D14))
E15: =IF(AND(C15="",D15=""),"",$E$3+SUM($C$4:C15)-SUM($D$4:D15))
... E53: =IF(AND(C53="",D53=""),"",$E$3+SUM($C$4:C53)-SUM($D$4:D53))
A55: Total | C55: =SUM(C4:C53) | D55: =SUM(D4:D53) | E55: =E3+C55-D55
A56: Balance = pichla baaki + udhar - jama. Page bhar jaaye to naya page lein aur pehli line mein pichla balance likhein.

Sheet Customer 3
A1: Customer: | D1: Phone:
A2: Date | B2: Vivaran (detail) | C2: Udhar (aapne diya) | D2: Jama (aapko mila) | E2: Balance
B3: Pichla baaki (opening balance) | E3: 0
E4: =IF(AND(C4="",D4=""),"",$E$3+SUM($C$4:C4)-SUM($D$4:D4))
E5: =IF(AND(C5="",D5=""),"",$E$3+SUM($C$4:C5)-SUM($D$4:D5))
E6: =IF(AND(C6="",D6=""),"",$E$3+SUM($C$4:C6)-SUM($D$4:D6))
E7: =IF(AND(C7="",D7=""),"",$E$3+SUM($C$4:C7)-SUM($D$4:D7))
E8: =IF(AND(C8="",D8=""),"",$E$3+SUM($C$4:C8)-SUM($D$4:D8))
E9: =IF(AND(C9="",D9=""),"",$E$3+SUM($C$4:C9)-SUM($D$4:D9))
E10: =IF(AND(C10="",D10=""),"",$E$3+SUM($C$4:C10)-SUM($D$4:D10))
E11: =IF(AND(C11="",D11=""),"",$E$3+SUM($C$4:C11)-SUM($D$4:D11))
E12: =IF(AND(C12="",D12=""),"",$E$3+SUM($C$4:C12)-SUM($D$4:D12))
E13: =IF(AND(C13="",D13=""),"",$E$3+SUM($C$4:C13)-SUM($D$4:D13))
E14: =IF(AND(C14="",D14=""),"",$E$3+SUM($C$4:C14)-SUM($D$4:D14))
E15: =IF(AND(C15="",D15=""),"",$E$3+SUM($C$4:C15)-SUM($D$4:D15))
... E53: =IF(AND(C53="",D53=""),"",$E$3+SUM($C$4:C53)-SUM($D$4:D53))
A55: Total | C55: =SUM(C4:C53) | D55: =SUM(D4:D53) | E55: =E3+C55-D55
A56: Balance = pichla baaki + udhar - jama. Page bhar jaaye to naya page lein aur pehli line mein pichla balance likhein.

Sheet Example
A1: Customer: | B1: Ramesh Sharma | D1: Phone: | E1: 98XXXXXXXX
A2: Date | B2: Vivaran (detail) | C2: Udhar (aapne diya) | D2: Jama (aapko mila) | E2: Balance
A3: 46296 | B3: Pichla baaki (opening balance) | E3: 1200
A4: 46298 | B4: Ration ka saaman | C4: 450 | E4: =IF(AND(C4="",D4=""),"",$E$3+SUM($C$4:C4)-SUM($D$4:D4))
A5: 46302 | B5: Cash mila | D5: 1000 | E5: =IF(AND(C5="",D5=""),"",$E$3+SUM($C$4:C5)-SUM($D$4:D5))
A6: 46307 | B6: Saaman | C6: 300 | E6: =IF(AND(C6="",D6=""),"",$E$3+SUM($C$4:C6)-SUM($D$4:D6))
A7: 46315 | B7: UPI se mila | D7: 500 | E7: =IF(AND(C7="",D7=""),"",$E$3+SUM($C$4:C7)-SUM($D$4:D7))
E8: =IF(AND(C8="",D8=""),"",$E$3+SUM($C$4:C8)-SUM($D$4:D8))
E9: =IF(AND(C9="",D9=""),"",$E$3+SUM($C$4:C9)-SUM($D$4:D9))
E10: =IF(AND(C10="",D10=""),"",$E$3+SUM($C$4:C10)-SUM($D$4:D10))
E11: =IF(AND(C11="",D11=""),"",$E$3+SUM($C$4:C11)-SUM($D$4:D11))
E12: =IF(AND(C12="",D12=""),"",$E$3+SUM($C$4:C12)-SUM($D$4:D12))
E13: =IF(AND(C13="",D13=""),"",$E$3+SUM($C$4:C13)-SUM($D$4:D13))
E14: =IF(AND(C14="",D14=""),"",$E$3+SUM($C$4:C14)-SUM($D$4:D14))
E15: =IF(AND(C15="",D15=""),"",$E$3+SUM($C$4:C15)-SUM($D$4:D15))
E16: =IF(AND(C16="",D16=""),"",$E$3+SUM($C$4:C16)-SUM($D$4:D16))
E17: =IF(AND(C17="",D17=""),"",$E$3+SUM($C$4:C17)-SUM($D$4:D17))
E18: =IF(AND(C18="",D18=""),"",$E$3+SUM($C$4:C18)-SUM($D$4:D18))
E19: =IF(AND(C19="",D19=""),"",$E$3+SUM($C$4:C19)-SUM($D$4:D19))
... E53: =IF(AND(C53="",D53=""),"",$E$3+SUM($C$4:C53)-SUM($D$4:D53))
A55: Total | C55: =SUM(C4:C53) | D55: =SUM(D4:D53) | E55: =E3+C55-D55
A56: Balance = pichla baaki + udhar - jama. Page bhar jaaye to naya page lein aur pehli line mein pichla balance likhein.

Sheet Summary
A1: Customer summary
A2: Customer | B2: Phone | C2: Baaki (balance)
A3: =IF('Customer 1'!B1="","Customer 1",'Customer 1'!B1) | B3: =IF('Customer 1'!E1="","",'Customer 1'!E1) | C3: ='Customer 1'!E55
A4: =IF('Customer 2'!B1="","Customer 2",'Customer 2'!B1) | B4: =IF('Customer 2'!E1="","",'Customer 2'!E1) | C4: ='Customer 2'!E55
A5: =IF('Customer 3'!B1="","Customer 3",'Customer 3'!B1) | B5: =IF('Customer 3'!E1="","",'Customer 3'!E1) | C5: ='Customer 3'!E55
A6: Total baaki (aapko lena hai) | C6: =SUM(C3:C5)
A8: Aur customers ke liye: 'Customer 1' sheet ko copy karein (right-click > Move or Copy), phir yahan nayi row mein usi tarah link karein.
